BEGIN:VCALENDAR
PRODID:-//Microsoft Corporation//Outlook 12.0 MIMEDIR//EN
VERSION:2.0
CALSCALE:GREGORIAN
BEGIN:VEVENT
UID: 019e3a72-527c-4304-a920-3d21bb6443c2
SUMMARY:Eesti Vähiliidu ennetusloeng „Ütle EI nikotiinile ja tubakale“
DTSTAMP:20240403T090000
DTSTART:20240403T090000
DTEND:20240403T133000
LOCATION:
DESCRIPTION: <p>Loeng käsitleb teemasid e-sigareti vedelikus sisalduvad mürgid, nikotiini- ja tubakapatjade ohud, nikotiini sõltuvus, vähi tekke seos tubaka- ja nikotiinitoodete tarvitamisega, passiivne suitsetamine jne.<br /><br />Loengut viib läbi MTÜ Eesti Vähiliidust Hanno Egipt.Ajakava:<br />9.00- 10.15 2.- 5.klasside õpilased<br />12.15- 13.30 6.- 11. klasside õpilased</p><p>&nbsp;</p><p><strong>Link: </strong>https://antslakk.edu.ee/et/sundmuste-kalender/eesti-vahiliidu-ennetusloeng-utle-ei-nikotiinile-ja-tubakale</p><p><strong>Hind: </strong></p>
STATUS:CONFIRMED
SEQUENCE:3
X-ALT-DESC;FMTTYPE=text/html:<p>Loeng käsitleb teemasid e-sigareti vedelikus sisalduvad mürgid, nikotiini- ja tubakapatjade ohud, nikotiini sõltuvus, vähi tekke seos tubaka- ja nikotiinitoodete tarvitamisega, passiivne suitsetamine jne.<br /><br />Loengut viib läbi MTÜ Eesti Vähiliidust Hanno Egipt.Ajakava:<br />9.00- 10.15 2.- 5.klasside õpilased<br />12.15- 13.30 6.- 11. klasside õpilased</p><p>&nbsp;</p><p><strong>Link: </strong>https://antslakk.edu.ee/et/sundmuste-kalender/eesti-vahiliidu-ennetusloeng-utle-ei-nikotiinile-ja-tubakale</p><p><strong>Hind: </strong></p>
X-MICROSOFT-CDO-BUSYSTATUS:OOF
X-MICROSOFT-CDO-IMPORTANCE:1
X-MICROSOFT-DISALLOW-COUNTER:FALSE
X-MS-OLK-ALLOWEXTERNCHECK:TRUE
X-MS-OLK-CONFTYPE:0
X-MICROSOFT-CDO-ALLDAYEVENT:
X-MICROSOFT-MSNCALENDAR-ALLDAYEVENT:
END:VEVENT
END:VCALENDAR